BEGIN:VCALENDAR
VERSION:2.0
PRODID:-//The Village Country Club - ECPv6.15.20//NONSGML v1.0//EN
CALSCALE:GREGORIAN
METHOD:PUBLISH
X-WR-CALNAME:The Village Country Club
X-ORIGINAL-URL:https://thevillagecountryclub.com
X-WR-CALDESC:Events for The Village Country Club
REFRESH-INTERVAL;VALUE=DURATION:PT1H
X-Robots-Tag:noindex
X-PUBLISHED-TTL:PT1H
BEGIN:VTIMEZONE
TZID:America/Chicago
BEGIN:DAYLIGHT
TZOFFSETFROM:-0600
TZOFFSETTO:-0500
TZNAME:CDT
DTSTART:20240310T080000
END:DAYLIGHT
BEGIN:STANDARD
TZOFFSETFROM:-0500
TZOFFSETTO:-0600
TZNAME:CST
DTSTART:20241103T070000
END:STANDARD
BEGIN:DAYLIGHT
TZOFFSETFROM:-0600
TZOFFSETTO:-0500
TZNAME:CDT
DTSTART:20250309T080000
END:DAYLIGHT
BEGIN:STANDARD
TZOFFSETFROM:-0500
TZOFFSETTO:-0600
TZNAME:CST
DTSTART:20251102T070000
END:STANDARD
BEGIN:DAYLIGHT
TZOFFSETFROM:-0600
TZOFFSETTO:-0500
TZNAME:CDT
DTSTART:20260308T080000
END:DAYLIGHT
BEGIN:STANDARD
TZOFFSETFROM:-0500
TZOFFSETTO:-0600
TZNAME:CST
DTSTART:20261101T070000
END:STANDARD
END:VTIMEZONE
BEGIN:VEVENT
DTSTART;TZID=America/Chicago:20250726T100000
DTEND;TZID=America/Chicago:20250726T210000
DTSTAMP:20260424T201532
CREATED:20250716T212539Z
LAST-MODIFIED:20250716T212539Z
UID:10002816-1753524000-1753563600@thevillagecountryclub.com
SUMMARY:Summer Pool Party Featuring Zillamatic
DESCRIPTION:Get ready to turn up the heat with a high-energy poolside set with Zillamatic!\nJoin us at the Village Country Club Pool on July 26th for an afternoon of music and sunshine. Sip on pool side refreshments and bring your friends – you wont want to miss it! \n  \nResidents may bring up to four guests free\, be sure to bring your ID. Want to bring a larger party? Book the ultimate experience – reserve a cabana for your group! Residents can book with The Village Concierge for their preferred resident rate. \nVillage Concierge Phone: 469-694-4980 | Email: concierge@thevillagedallas.com. \n  \nPlease note: no outside food or beverage is permitted. This event is 21+. Non-resident and public tickets available for purchase HERE
URL:https://thevillagecountryclub.com/special-event/summer-pool-party-featuring-zillamatic/
ATTACH;FMTTYPE=image/jpeg:https://thevillagecountryclub.com/wp-content/uploads/2025/07/TVBC_600X400PX_DJ-2025_600X400PX-ZILLAMATIC-1-1.jpg
END:VEVENT
END:VCALENDAR