BEGIN:VCALENDAR
VERSION:2.0
PRODID:-//The Village Country Club - ECPv6.15.20//NONSGML v1.0//EN
CALSCALE:GREGORIAN
METHOD:PUBLISH
X-WR-CALNAME:The Village Country Club
X-ORIGINAL-URL:https://thevillagecountryclub.com
X-WR-CALDESC:Events for The Village Country Club
REFRESH-INTERVAL;VALUE=DURATION:PT1H
X-Robots-Tag:noindex
X-PUBLISHED-TTL:PT1H
BEGIN:VTIMEZONE
TZID:America/Chicago
BEGIN:DAYLIGHT
TZOFFSETFROM:-0600
TZOFFSETTO:-0500
TZNAME:CDT
DTSTART:20250309T080000
END:DAYLIGHT
BEGIN:STANDARD
TZOFFSETFROM:-0500
TZOFFSETTO:-0600
TZNAME:CST
DTSTART:20251102T070000
END:STANDARD
BEGIN:DAYLIGHT
TZOFFSETFROM:-0600
TZOFFSETTO:-0500
TZNAME:CDT
DTSTART:20260308T080000
END:DAYLIGHT
BEGIN:STANDARD
TZOFFSETFROM:-0500
TZOFFSETTO:-0600
TZNAME:CST
DTSTART:20261101T070000
END:STANDARD
BEGIN:DAYLIGHT
TZOFFSETFROM:-0600
TZOFFSETTO:-0500
TZNAME:CDT
DTSTART:20270314T080000
END:DAYLIGHT
BEGIN:STANDARD
TZOFFSETFROM:-0500
TZOFFSETTO:-0600
TZNAME:CST
DTSTART:20271107T070000
END:STANDARD
END:VTIMEZONE
BEGIN:VEVENT
DTSTART;TZID=America/Chicago:20260506T183000
DTEND;TZID=America/Chicago:20260506T203000
DTSTAMP:20260423T235650
CREATED:20251217T182725Z
LAST-MODIFIED:20260326T164441Z
UID:10004262-1778092200-1778099400@thevillagecountryclub.com
SUMMARY:Villager Art Club
DESCRIPTION:Connect with fellow Villagers and explore creativity with Art Club at the Village Country Club. Whether you’re a seasoned artist or just looking to unwind with something hands-on\, this club is all about expression\, conversation\, and connection. All skill levels are welcome!
URL:https://thevillagecountryclub.com/special-event/villager-art-club/2026-05-06/
ATTACH;FMTTYPE=image/png:https://thevillagecountryclub.com/wp-content/uploads/2025/12/Website-Eventbrite-Headers-2160-x-1080-px-26.png
END:VEVENT
BEGIN:VEVENT
DTSTART;TZID=America/Chicago:20260603T183000
DTEND;TZID=America/Chicago:20260603T193000
DTSTAMP:20260423T235650
CREATED:20251217T182725Z
LAST-MODIFIED:20260326T164441Z
UID:10004213-1780511400-1780515000@thevillagecountryclub.com
SUMMARY:Villager Art Club
DESCRIPTION:Connect with fellow Villagers and explore creativity with Art Club at the Village Country Club. Whether you’re a seasoned artist or just looking to unwind with something hands-on\, this club is all about expression\, conversation\, and connection. All skill levels are welcome!
URL:https://thevillagecountryclub.com/special-event/villager-art-club/2026-06-03/
ATTACH;FMTTYPE=image/png:https://thevillagecountryclub.com/wp-content/uploads/2025/12/Website-Eventbrite-Headers-2160-x-1080-px-26.png
END:VEVENT
BEGIN:VEVENT
DTSTART;TZID=America/Chicago:20260701T183000
DTEND;TZID=America/Chicago:20260701T193000
DTSTAMP:20260423T235650
CREATED:20251217T182725Z
LAST-MODIFIED:20260326T164441Z
UID:10004214-1782930600-1782934200@thevillagecountryclub.com
SUMMARY:Villager Art Club
DESCRIPTION:Connect with fellow Villagers and explore creativity with Art Club at the Village Country Club. Whether you’re a seasoned artist or just looking to unwind with something hands-on\, this club is all about expression\, conversation\, and connection. All skill levels are welcome!
URL:https://thevillagecountryclub.com/special-event/villager-art-club/2026-07-01/
ATTACH;FMTTYPE=image/png:https://thevillagecountryclub.com/wp-content/uploads/2025/12/Website-Eventbrite-Headers-2160-x-1080-px-26.png
END:VEVENT
BEGIN:VEVENT
DTSTART;TZID=America/Chicago:20260805T183000
DTEND;TZID=America/Chicago:20260805T193000
DTSTAMP:20260423T235650
CREATED:20251217T182725Z
LAST-MODIFIED:20260326T164441Z
UID:10004215-1785954600-1785958200@thevillagecountryclub.com
SUMMARY:Villager Art Club
DESCRIPTION:Connect with fellow Villagers and explore creativity with Art Club at the Village Country Club. Whether you’re a seasoned artist or just looking to unwind with something hands-on\, this club is all about expression\, conversation\, and connection. All skill levels are welcome!
URL:https://thevillagecountryclub.com/special-event/villager-art-club/2026-08-05/
ATTACH;FMTTYPE=image/png:https://thevillagecountryclub.com/wp-content/uploads/2025/12/Website-Eventbrite-Headers-2160-x-1080-px-26.png
END:VEVENT
END:VCALENDAR