BEGIN:VCALENDAR
VERSION:2.0
PRODID:-//The Village Country Club - ECPv6.15.20//NONSGML v1.0//EN
CALSCALE:GREGORIAN
METHOD:PUBLISH
X-ORIGINAL-URL:https://thevillagecountryclub.com
X-WR-CALDESC:Events for The Village Country Club
REFRESH-INTERVAL;VALUE=DURATION:PT1H
X-Robots-Tag:noindex
X-PUBLISHED-TTL:PT1H
BEGIN:VTIMEZONE
TZID:America/Chicago
BEGIN:DAYLIGHT
TZOFFSETFROM:-0600
TZOFFSETTO:-0500
TZNAME:CDT
DTSTART:20250309T080000
END:DAYLIGHT
BEGIN:STANDARD
TZOFFSETFROM:-0500
TZOFFSETTO:-0600
TZNAME:CST
DTSTART:20251102T070000
END:STANDARD
BEGIN:DAYLIGHT
TZOFFSETFROM:-0600
TZOFFSETTO:-0500
TZNAME:CDT
DTSTART:20260308T080000
END:DAYLIGHT
BEGIN:STANDARD
TZOFFSETFROM:-0500
TZOFFSETTO:-0600
TZNAME:CST
DTSTART:20261101T070000
END:STANDARD
BEGIN:DAYLIGHT
TZOFFSETFROM:-0600
TZOFFSETTO:-0500
TZNAME:CDT
DTSTART:20270314T080000
END:DAYLIGHT
BEGIN:STANDARD
TZOFFSETFROM:-0500
TZOFFSETTO:-0600
TZNAME:CST
DTSTART:20271107T070000
END:STANDARD
END:VTIMEZONE
BEGIN:VEVENT
DTSTART;TZID=America/Chicago:20260613T100000
DTEND;TZID=America/Chicago:20260613T140000
DTSTAMP:20260424T070526
CREATED:20250430T204157Z
LAST-MODIFIED:20250514T185803Z
UID:10000196-1781344800-1781359200@thevillagecountryclub.com
SUMMARY:Sun Up Sips
DESCRIPTION:Kick off your weekend with Saturday Brunch from 10 AM – 2 PM at The Village Country Club! Enjoy all your brunch favorites along with 1/2-price bottles of champagne\, ideal for sipping a bubbly mimosa. Cheers to the weekend!
URL:https://thevillagecountryclub.com/special-event/weekend-brunch-13/2026-06-13/
LOCATION:The Village Dallas\, 5605 Village Glen Dr\, Dallas\, Texas\, 75206\, United States
ATTACH;FMTTYPE=image/jpeg:https://thevillagecountryclub.com/wp-content/uploads/2025/04/4.21.2025-VCC-35-scaled.jpg
END:VEVENT
BEGIN:VEVENT
DTSTART;TZID=America/Chicago:20260613T110000
DTEND;TZID=America/Chicago:20260613T170000
DTSTAMP:20260424T070526
CREATED:20260413T170551Z
LAST-MODIFIED:20260413T182230Z
UID:10004269-1781348400-1781370000@thevillagecountryclub.com
SUMMARY:Ship Wrek at Village Beach Club
DESCRIPTION:Join us at The Village Beach Club in Dallas on Saturday\, June 13th as Ship Wrek takes over the pool for a high-energy summer party. \nLos Angeles duo Tripp Churchill and Collin Maguire\, known as Ship Wrek\, have quickly risen as one of the most exciting acts in electronic music. Since forming in 2019\, they have built a reputation for their signature sound and electrifying DJ sets\, with releases and remixes supported by Skrillex\, Diplo\, Tiesto\, The Chainsmokers\, and more. \nWith a style that blends infectious house energy and crowd-moving drops\, Ship Wrek brings nonstop momentum from start to finish. Their latest collaboration with The Chainsmokers\, “The Fall\,” is already making waves. \nThrow on your best swim fit\, grab a drink\, and get ready to dance poolside in Dallas. This is the party you don’t want to miss. \nDoors 11 AM \nLearn more about Village Beach Club. \nGET TICKETS
URL:https://thevillagecountryclub.com/special-event/ship-wrek-at-village-beach-club/
ATTACH;FMTTYPE=image/png:https://thevillagecountryclub.com/wp-content/uploads/2026/04/ship-wreck-2160x1080-1.png
END:VEVENT
END:VCALENDAR