BEGIN:VCALENDAR
VERSION:2.0
PRODID:-//The Village Country Club - ECPv6.15.20//NONSGML v1.0//EN
CALSCALE:GREGORIAN
METHOD:PUBLISH
X-ORIGINAL-URL:https://thevillagecountryclub.com
X-WR-CALDESC:Events for The Village Country Club
REFRESH-INTERVAL;VALUE=DURATION:PT1H
X-Robots-Tag:noindex
X-PUBLISHED-TTL:PT1H
BEGIN:VTIMEZONE
TZID:America/Chicago
BEGIN:DAYLIGHT
TZOFFSETFROM:-0600
TZOFFSETTO:-0500
TZNAME:CDT
DTSTART:20250309T080000
END:DAYLIGHT
BEGIN:STANDARD
TZOFFSETFROM:-0500
TZOFFSETTO:-0600
TZNAME:CST
DTSTART:20251102T070000
END:STANDARD
BEGIN:DAYLIGHT
TZOFFSETFROM:-0600
TZOFFSETTO:-0500
TZNAME:CDT
DTSTART:20260308T080000
END:DAYLIGHT
BEGIN:STANDARD
TZOFFSETFROM:-0500
TZOFFSETTO:-0600
TZNAME:CST
DTSTART:20261101T070000
END:STANDARD
BEGIN:DAYLIGHT
TZOFFSETFROM:-0600
TZOFFSETTO:-0500
TZNAME:CDT
DTSTART:20270314T080000
END:DAYLIGHT
BEGIN:STANDARD
TZOFFSETFROM:-0500
TZOFFSETTO:-0600
TZNAME:CST
DTSTART:20271107T070000
END:STANDARD
END:VTIMEZONE
BEGIN:VEVENT
DTSTART;TZID=America/Chicago:20260606T100000
DTEND;TZID=America/Chicago:20260606T140000
DTSTAMP:20260424T070440
CREATED:20250430T204157Z
LAST-MODIFIED:20250514T185803Z
UID:10000195-1780740000-1780754400@thevillagecountryclub.com
SUMMARY:Sun Up Sips
DESCRIPTION:Kick off your weekend with Saturday Brunch from 10 AM – 2 PM at The Village Country Club! Enjoy all your brunch favorites along with 1/2-price bottles of champagne\, ideal for sipping a bubbly mimosa. Cheers to the weekend!
URL:https://thevillagecountryclub.com/special-event/weekend-brunch-13/2026-06-06/
LOCATION:The Village Dallas\, 5605 Village Glen Dr\, Dallas\, Texas\, 75206\, United States
ATTACH;FMTTYPE=image/jpeg:https://thevillagecountryclub.com/wp-content/uploads/2025/04/4.21.2025-VCC-35-scaled.jpg
END:VEVENT
BEGIN:VEVENT
DTSTART;TZID=America/Chicago:20260606T110000
DTEND;TZID=America/Chicago:20260606T170000
DTSTAMP:20260424T070440
CREATED:20260413T170533Z
LAST-MODIFIED:20260413T174655Z
UID:10004268-1780743600-1780765200@thevillagecountryclub.com
SUMMARY:Yung Gravy at Village Beach Club
DESCRIPTION:Join us at The Village Beach Club in Dallas on Saturday\, June 6th as Yung Gravy brings the party poolside for a can’t-miss summer takeover. \nKnown for his smooth baritone voice and signature blend of old-school samples and modern trap beats\, Yung Gravy has carved out a lane all his own. From viral hits like “Betty (Get Money)” to collaborations with Lil Wayne\, T-Pain\, and Juicy J\, he has quickly risen from SoundCloud standout to platinum-selling artist with billions of streams and sold-out tours across the globe. \nWith a style rooted in soul\, nostalgia\, and feel-good energy\, Yung Gravy delivers a live show packed with personality\, humor\, and nonstop vibes. \nThrow on your best swim fit\, grab a drink\, and get ready to dance poolside in Dallas. This is one party you don’t want to miss. \nDoors 11 AM \nLearn more about Village Beach Club. \nGET TICKETS  \n 
URL:https://thevillagecountryclub.com/special-event/yung-gravy-at-village-beach-club/
ATTACH;FMTTYPE=image/png:https://thevillagecountryclub.com/wp-content/uploads/2026/04/yung-gravy-2160x1080-1.png
END:VEVENT
END:VCALENDAR