BEGIN:VCALENDAR
VERSION:2.0
PRODID:-//The Village Country Club - ECPv6.15.20//NONSGML v1.0//EN
CALSCALE:GREGORIAN
METHOD:PUBLISH
X-WR-CALNAME:The Village Country Club
X-ORIGINAL-URL:https://thevillagecountryclub.com
X-WR-CALDESC:Events for The Village Country Club
REFRESH-INTERVAL;VALUE=DURATION:PT1H
X-Robots-Tag:noindex
X-PUBLISHED-TTL:PT1H
BEGIN:VTIMEZONE
TZID:America/Chicago
BEGIN:DAYLIGHT
TZOFFSETFROM:-0600
TZOFFSETTO:-0500
TZNAME:CDT
DTSTART:20250309T080000
END:DAYLIGHT
BEGIN:STANDARD
TZOFFSETFROM:-0500
TZOFFSETTO:-0600
TZNAME:CST
DTSTART:20251102T070000
END:STANDARD
BEGIN:DAYLIGHT
TZOFFSETFROM:-0600
TZOFFSETTO:-0500
TZNAME:CDT
DTSTART:20260308T080000
END:DAYLIGHT
BEGIN:STANDARD
TZOFFSETFROM:-0500
TZOFFSETTO:-0600
TZNAME:CST
DTSTART:20261101T070000
END:STANDARD
BEGIN:DAYLIGHT
TZOFFSETFROM:-0600
TZOFFSETTO:-0500
TZNAME:CDT
DTSTART:20270314T080000
END:DAYLIGHT
BEGIN:STANDARD
TZOFFSETFROM:-0500
TZOFFSETTO:-0600
TZNAME:CST
DTSTART:20271107T070000
END:STANDARD
END:VTIMEZONE
BEGIN:VEVENT
DTSTART;TZID=America/Chicago:20260530T100000
DTEND;TZID=America/Chicago:20260530T140000
DTSTAMP:20260424T053009
CREATED:20250430T204157Z
LAST-MODIFIED:20250514T185803Z
UID:10000194-1780135200-1780149600@thevillagecountryclub.com
SUMMARY:Sun Up Sips
DESCRIPTION:Kick off your weekend with Saturday Brunch from 10 AM – 2 PM at The Village Country Club! Enjoy all your brunch favorites along with 1/2-price bottles of champagne\, ideal for sipping a bubbly mimosa. Cheers to the weekend!
URL:https://thevillagecountryclub.com/special-event/weekend-brunch-13/2026-05-30/
LOCATION:The Village Dallas\, 5605 Village Glen Dr\, Dallas\, Texas\, 75206\, United States
ATTACH;FMTTYPE=image/jpeg:https://thevillagecountryclub.com/wp-content/uploads/2025/04/4.21.2025-VCC-35-scaled.jpg
END:VEVENT
BEGIN:VEVENT
DTSTART;TZID=America/Chicago:20260530T110000
DTEND;TZID=America/Chicago:20260530T170000
DTSTAMP:20260424T053009
CREATED:20260413T170508Z
LAST-MODIFIED:20260413T181909Z
UID:10004273-1780138800-1780160400@thevillagecountryclub.com
SUMMARY:Tchami at Village Beach Club
DESCRIPTION:Confession begins poolside at The Village Beach Club on Saturday\, May 30th with nonstop vibes and insane beats from headliner DJ Tchami\, bringing his signature future house sound to the pool! Throw on your hottest swim fit\, and get ready to dance\, splash\, and party under the sun. This is the pool party you don’t want to miss. \nDoors 11 AM \nLearn more about Village Beach Club. \nGET TICKETS
URL:https://thevillagecountryclub.com/special-event/tchami-at-village-beach-club/
ATTACH;FMTTYPE=image/png:https://thevillagecountryclub.com/wp-content/uploads/2026/04/tchami-2160x1080-1.png
END:VEVENT
END:VCALENDAR