BEGIN:VCALENDAR
VERSION:2.0
PRODID:-//The Village Country Club - ECPv6.15.20//NONSGML v1.0//EN
CALSCALE:GREGORIAN
METHOD:PUBLISH
X-WR-CALNAME:The Village Country Club
X-ORIGINAL-URL:https://thevillagecountryclub.com
X-WR-CALDESC:Events for The Village Country Club
REFRESH-INTERVAL;VALUE=DURATION:PT1H
X-Robots-Tag:noindex
X-PUBLISHED-TTL:PT1H
BEGIN:VTIMEZONE
TZID:America/Chicago
BEGIN:DAYLIGHT
TZOFFSETFROM:-0600
TZOFFSETTO:-0500
TZNAME:CDT
DTSTART:20250309T080000
END:DAYLIGHT
BEGIN:STANDARD
TZOFFSETFROM:-0500
TZOFFSETTO:-0600
TZNAME:CST
DTSTART:20251102T070000
END:STANDARD
BEGIN:DAYLIGHT
TZOFFSETFROM:-0600
TZOFFSETTO:-0500
TZNAME:CDT
DTSTART:20260308T080000
END:DAYLIGHT
BEGIN:STANDARD
TZOFFSETFROM:-0500
TZOFFSETTO:-0600
TZNAME:CST
DTSTART:20261101T070000
END:STANDARD
BEGIN:DAYLIGHT
TZOFFSETFROM:-0600
TZOFFSETTO:-0500
TZNAME:CDT
DTSTART:20270314T080000
END:DAYLIGHT
BEGIN:STANDARD
TZOFFSETFROM:-0500
TZOFFSETTO:-0600
TZNAME:CST
DTSTART:20271107T070000
END:STANDARD
END:VTIMEZONE
BEGIN:VEVENT
DTSTART;TZID=America/Chicago:20260524T100000
DTEND;TZID=America/Chicago:20260524T140000
DTSTAMP:20260424T053045
CREATED:20250430T204247Z
LAST-MODIFIED:20250514T185746Z
UID:10000449-1779616800-1779631200@thevillagecountryclub.com
SUMMARY:Sun Up Sips
DESCRIPTION:Keep the weekend vibes rolling with Sunday Brunch from 10 AM – 2 PM at The Village Country Club! Enjoy all your brunch favorites along with 1/2-price bottles of champagne\, ideal for sipping a bubbly mimosa. Cheers to a perfect Sunday!
URL:https://thevillagecountryclub.com/special-event/weekend-brunch-14/2026-05-24/
LOCATION:The Village Dallas\, 5605 Village Glen Dr\, Dallas\, Texas\, 75206\, United States
ATTACH;FMTTYPE=image/jpeg:https://thevillagecountryclub.com/wp-content/uploads/2025/04/4.21.2025-VCC-39-scaled.jpg
END:VEVENT
BEGIN:VEVENT
DTSTART;TZID=America/Chicago:20260524T110000
DTEND;TZID=America/Chicago:20260524T170000
DTSTAMP:20260424T053045
CREATED:20260413T170445Z
LAST-MODIFIED:20260414T172506Z
UID:10004266-1779620400-1779642000@thevillagecountryclub.com
SUMMARY:Nic Vans at Village Beach Club
DESCRIPTION:Join us at The Village Beach Club in Dallas on Saturday\, May 24th as Nic Vans brings the energy poolside for a can’t-miss day party. \nNic Vansteenberghe first gained national attention on Love Island USA Season 7\, quickly becoming a fan favorite. Since then\, he has built a strong presence through major brand partnerships\, fashion appearances\, and a growing fanbase of over 6 million. \nNow stepping into the music scene\, Nic Vans is turning his passion for electronic music into a global DJ career\, delivering sets filled with progressive house and dance pop. \nThrow on your best swim fit\, grab a drink\, and get ready to dance poolside in Dallas. This is the vibe you don’t want to miss. \nDoors 11 AM \nLearn more about Village Beach Club. \nGET TICKETS
URL:https://thevillagecountryclub.com/special-event/nic-vans-at-village-beach-club/
ATTACH;FMTTYPE=image/png:https://thevillagecountryclub.com/wp-content/uploads/2026/04/nic-vans-2160x1080-1.png
END:VEVENT
END:VCALENDAR