BEGIN:VCALENDAR
VERSION:2.0
PRODID:-//The Village Country Club - ECPv6.15.20//NONSGML v1.0//EN
CALSCALE:GREGORIAN
METHOD:PUBLISH
X-ORIGINAL-URL:https://thevillagecountryclub.com
X-WR-CALDESC:Events for The Village Country Club
REFRESH-INTERVAL;VALUE=DURATION:PT1H
X-Robots-Tag:noindex
X-PUBLISHED-TTL:PT1H
BEGIN:VTIMEZONE
TZID:America/Chicago
BEGIN:DAYLIGHT
TZOFFSETFROM:-0600
TZOFFSETTO:-0500
TZNAME:CDT
DTSTART:20250309T080000
END:DAYLIGHT
BEGIN:STANDARD
TZOFFSETFROM:-0500
TZOFFSETTO:-0600
TZNAME:CST
DTSTART:20251102T070000
END:STANDARD
BEGIN:DAYLIGHT
TZOFFSETFROM:-0600
TZOFFSETTO:-0500
TZNAME:CDT
DTSTART:20260308T080000
END:DAYLIGHT
BEGIN:STANDARD
TZOFFSETFROM:-0500
TZOFFSETTO:-0600
TZNAME:CST
DTSTART:20261101T070000
END:STANDARD
BEGIN:DAYLIGHT
TZOFFSETFROM:-0600
TZOFFSETTO:-0500
TZNAME:CDT
DTSTART:20270314T080000
END:DAYLIGHT
BEGIN:STANDARD
TZOFFSETFROM:-0500
TZOFFSETTO:-0600
TZNAME:CST
DTSTART:20271107T070000
END:STANDARD
END:VTIMEZONE
BEGIN:VEVENT
DTSTART;TZID=America/Chicago:20260507T170000
DTEND;TZID=America/Chicago:20260507T200000
DTSTAMP:20260424T053053
CREATED:20260305T191340Z
LAST-MODIFIED:20260305T191419Z
UID:10004254-1778173200-1778184000@thevillagecountryclub.com
SUMMARY:DallasMeetup at the Village Country Club
DESCRIPTION:Curious about the future of finance in Dallas? Join DallasMeetup at The Village Country Club for the debut of its new Fintech Cohort\, an evening bringing together local founders\, investors\, and professionals working across fintech\, banking\, payments\, and AI. Whether you work in the industry or simply want to connect with Dallas’ growing innovation community\, you are invited to register and join the conversation. \nREGISTER HERE
URL:https://thevillagecountryclub.com/special-event/dallasmeetup-at-the-village-country-club/
LOCATION:Village Country Club
ATTACH;FMTTYPE=image/webp:https://thevillagecountryclub.com/wp-content/uploads/2025/04/villagecountryclub_banner_img.webp
END:VEVENT
END:VCALENDAR