BEGIN:VCALENDAR
VERSION:2.0
PRODID:-//The Village Country Club - ECPv6.15.20//NONSGML v1.0//EN
CALSCALE:GREGORIAN
METHOD:PUBLISH
X-ORIGINAL-URL:https://thevillagecountryclub.com
X-WR-CALDESC:Events for The Village Country Club
REFRESH-INTERVAL;VALUE=DURATION:PT1H
X-Robots-Tag:noindex
X-PUBLISHED-TTL:PT1H
BEGIN:VTIMEZONE
TZID:America/Chicago
BEGIN:DAYLIGHT
TZOFFSETFROM:-0600
TZOFFSETTO:-0500
TZNAME:CDT
DTSTART:20250309T080000
END:DAYLIGHT
BEGIN:STANDARD
TZOFFSETFROM:-0500
TZOFFSETTO:-0600
TZNAME:CST
DTSTART:20251102T070000
END:STANDARD
BEGIN:DAYLIGHT
TZOFFSETFROM:-0600
TZOFFSETTO:-0500
TZNAME:CDT
DTSTART:20260308T080000
END:DAYLIGHT
BEGIN:STANDARD
TZOFFSETFROM:-0500
TZOFFSETTO:-0600
TZNAME:CST
DTSTART:20261101T070000
END:STANDARD
BEGIN:DAYLIGHT
TZOFFSETFROM:-0600
TZOFFSETTO:-0500
TZNAME:CDT
DTSTART:20270314T080000
END:DAYLIGHT
BEGIN:STANDARD
TZOFFSETFROM:-0500
TZOFFSETTO:-0600
TZNAME:CST
DTSTART:20271107T070000
END:STANDARD
END:VTIMEZONE
BEGIN:VEVENT
DTSTART;TZID=America/Chicago:20260326T160000
DTEND;TZID=America/Chicago:20260326T180000
DTSTAMP:20260424T024550
CREATED:20260106T232230Z
LAST-MODIFIED:20260305T185711Z
UID:10003454-1774540800-1774548000@thevillagecountryclub.com
SUMMARY:Half-Price Happy Hour
DESCRIPTION:Join us for Half-Price Happy Hour at The Village Country Club\, Monday–Friday from 4–6 PM. Enjoy half off select appetizers\, cocktails\, beers\, and wines by the glass. The perfect weekday happy hour spot with great drinks and shareable bites.
URL:https://thevillagecountryclub.com/special-event/villager-happy-hour-36-2/2026-03-26/
LOCATION:Village Country Club
ATTACH;FMTTYPE=image/jpeg:https://thevillagecountryclub.com/wp-content/uploads/2025/04/4.21.2025-VCC-49-scaled.jpg
END:VEVENT
BEGIN:VEVENT
DTSTART;TZID=America/Chicago:20260326T183000
DTEND;TZID=America/Chicago:20260326T203000
DTSTAMP:20260424T024550
CREATED:20260311T143550Z
LAST-MODIFIED:20260311T143550Z
UID:10004255-1774549800-1774557000@thevillagecountryclub.com
SUMMARY:Spring Social & Succulent Neighbor Night Workshop
DESCRIPTION:Celebrate the season with a fresh start alongside your neighbors. Enjoy live music\, snap a photo at a spring-themed photo op\, and create a take-home succulent to brighten your space. It’s a simple way to welcome spring and spend time with the community.
URL:https://thevillagecountryclub.com/special-event/spring-social-succulent-neighbor-night-workshop/
LOCATION:Village Country Club
ATTACH;FMTTYPE=image/png:https://thevillagecountryclub.com/wp-content/uploads/2026/03/Website-Eventbrite-Headers-2160-x-1080-px-44.png
END:VEVENT
BEGIN:VEVENT
DTSTART;TZID=America/Chicago:20260326T183000
DTEND;TZID=America/Chicago:20260326T203000
DTSTAMP:20260424T024550
CREATED:20260324T163145Z
LAST-MODIFIED:20260324T163145Z
UID:10004256-1774549800-1774557000@thevillagecountryclub.com
SUMMARY:Grow & Gather Workshop
DESCRIPTION:Overview\n\n\n\n\nJoin us at the Village Country Club for a hands-on Succulent Planter Workshop\, exclusively for residents of The Village Dallas! \n\n\n\n\nJoin us at the Village Country Club for a hands-on Succulent Planter Workshop\, exclusively for residents of The Village Dallas! \nWHAT TO EXPECT:\nGet creative as you choose from a variety of small animal-shaped planter pots and build your own custom succulent arrangement from scratch. We’ll provide all the essentials—including soil mix and succulent cuttings\, so all you need to bring is your creativity.\nFood and drinks will be available for purchase throughout the event. \nTICKETS & CHECK-IN:\n$5 per person — Villager ID required at check-in\nThis event is reserved for current residents of The Village Dallas and their guests. Space is limited\, so be sure to secure your spot early! \nWHEN:\nThursday\, March 26\n6:30 PM – 8:30 PM \nWHERE:\nThe Village Country Club\n5670 Village Glen Drive\nDallas\, TX 75206 \nPARKING:\nComplimentary parking is available in The Village’s underground garage for all attendees. \nQUESTIONS?\nEmail us at events@thevillagedallas.com \nGET TICKETS
URL:https://thevillagecountryclub.com/special-event/grow-gather-workshop/
LOCATION:Village Country Club
ATTACH;FMTTYPE=image/png:https://thevillagecountryclub.com/wp-content/uploads/2026/03/Website-Eventbrite-Headers-2160-x-1080-px-45.png
END:VEVENT
END:VCALENDAR