BEGIN:VCALENDAR
VERSION:2.0
PRODID:-//The Village Country Club - ECPv6.15.20//NONSGML v1.0//EN
CALSCALE:GREGORIAN
METHOD:PUBLISH
X-WR-CALNAME:The Village Country Club
X-ORIGINAL-URL:https://thevillagecountryclub.com
X-WR-CALDESC:Events for The Village Country Club
REFRESH-INTERVAL;VALUE=DURATION:PT1H
X-Robots-Tag:noindex
X-PUBLISHED-TTL:PT1H
BEGIN:VTIMEZONE
TZID:America/Chicago
BEGIN:DAYLIGHT
TZOFFSETFROM:-0600
TZOFFSETTO:-0500
TZNAME:CDT
DTSTART:20250309T080000
END:DAYLIGHT
BEGIN:STANDARD
TZOFFSETFROM:-0500
TZOFFSETTO:-0600
TZNAME:CST
DTSTART:20251102T070000
END:STANDARD
BEGIN:DAYLIGHT
TZOFFSETFROM:-0600
TZOFFSETTO:-0500
TZNAME:CDT
DTSTART:20260308T080000
END:DAYLIGHT
BEGIN:STANDARD
TZOFFSETFROM:-0500
TZOFFSETTO:-0600
TZNAME:CST
DTSTART:20261101T070000
END:STANDARD
BEGIN:DAYLIGHT
TZOFFSETFROM:-0600
TZOFFSETTO:-0500
TZNAME:CDT
DTSTART:20270314T080000
END:DAYLIGHT
BEGIN:STANDARD
TZOFFSETFROM:-0500
TZOFFSETTO:-0600
TZNAME:CST
DTSTART:20271107T070000
END:STANDARD
END:VTIMEZONE
BEGIN:VEVENT
DTSTART;TZID=America/Chicago:20260226T160000
DTEND;TZID=America/Chicago:20260226T180000
DTSTAMP:20260424T024304
CREATED:20260106T232230Z
LAST-MODIFIED:20260305T185711Z
UID:10003442-1772121600-1772128800@thevillagecountryclub.com
SUMMARY:Half-Price Happy Hour
DESCRIPTION:Join us for Half-Price Happy Hour at The Village Country Club\, Monday–Friday from 4–6 PM. Enjoy half off select appetizers\, cocktails\, beers\, and wines by the glass. The perfect weekday happy hour spot with great drinks and shareable bites.
URL:https://thevillagecountryclub.com/special-event/villager-happy-hour-36-2/2026-02-26/
LOCATION:Village Country Club
ATTACH;FMTTYPE=image/jpeg:https://thevillagecountryclub.com/wp-content/uploads/2025/04/4.21.2025-VCC-49-scaled.jpg
END:VEVENT
BEGIN:VEVENT
DTSTART;TZID=America/Chicago:20260226T183000
DTEND;TZID=America/Chicago:20260226T203000
DTSTAMP:20260424T024304
CREATED:20260210T164400Z
LAST-MODIFIED:20260211T213137Z
UID:10004218-1772130600-1772137800@thevillagecountryclub.com
SUMMARY:Neighbor Night
DESCRIPTION:Unleash your inner icon with Karaoke night! Warm up those vocal cords and take the mic or cheer on your neighbors from the crowd. Whether you are a seasoned superstar or a dedicated shower singer\, Karaoke Night is built on laughs\, confidence\, and unexpected performances.
URL:https://thevillagecountryclub.com/special-event/neighbor-night-6/
LOCATION:Village Country Club
ATTACH;FMTTYPE=image/png:https://thevillagecountryclub.com/wp-content/uploads/2025/05/Untitled-design-52.png
END:VEVENT
END:VCALENDAR